BEGIN:VCALENDAR
VERSION:2.0
PRODID:-//Drysdale Uniting Church - ECPv6.15.20//NONSGML v1.0//EN
CALSCALE:GREGORIAN
METHOD:PUBLISH
X-ORIGINAL-URL:https://drysdale.unitingchurch.org.au
X-WR-CALDESC:Events for Drysdale Uniting Church
REFRESH-INTERVAL;VALUE=DURATION:PT1H
X-Robots-Tag:noindex
X-PUBLISHED-TTL:PT1H
BEGIN:VTIMEZONE
TZID:Australia/Melbourne
BEGIN:STANDARD
TZOFFSETFROM:+1100
TZOFFSETTO:+1000
TZNAME:AEST
DTSTART:20250405T160000
END:STANDARD
BEGIN:DAYLIGHT
TZOFFSETFROM:+1000
TZOFFSETTO:+1100
TZNAME:AEDT
DTSTART:20251004T160000
END:DAYLIGHT
BEGIN:STANDARD
TZOFFSETFROM:+1100
TZOFFSETTO:+1000
TZNAME:AEST
DTSTART:20260404T160000
END:STANDARD
BEGIN:DAYLIGHT
TZOFFSETFROM:+1000
TZOFFSETTO:+1100
TZNAME:AEDT
DTSTART:20261003T160000
END:DAYLIGHT
BEGIN:STANDARD
TZOFFSETFROM:+1100
TZOFFSETTO:+1000
TZNAME:AEST
DTSTART:20270403T160000
END:STANDARD
BEGIN:DAYLIGHT
TZOFFSETFROM:+1000
TZOFFSETTO:+1100
TZNAME:AEDT
DTSTART:20271002T160000
END:DAYLIGHT
END:VTIMEZONE
BEGIN:VEVENT
DTSTART;TZID=Australia/Melbourne:20260330T093000
DTEND;TZID=Australia/Melbourne:20260330T103000
DTSTAMP:20260425T061043
CREATED:20260216T013346Z
LAST-MODIFIED:20260216T013346Z
UID:8105-1774863000-1774866600@drysdale.unitingchurch.org.au
SUMMARY:KYB (Know Your Bible)
DESCRIPTION:KYB (Know Your Bible) is a women’s bible study group using material provided by Christian Women Communicating International. All welcome.
URL:https://drysdale.unitingchurch.org.au/event/kyb-know-your-bible-80/
LOCATION:Drysdale Uniting Church\, 22-24 High Street Drysdale\, Drysdale\, Victoria\, 3222\, Australia
CATEGORIES:Bible Study
END:VEVENT
END:VCALENDAR