BEGIN:VCALENDAR
VERSION:2.0
PRODID:-//Drysdale Uniting Church - ECPv6.15.20//NONSGML v1.0//EN
CALSCALE:GREGORIAN
METHOD:PUBLISH
X-WR-CALNAME:Drysdale Uniting Church
X-ORIGINAL-URL:https://drysdale.unitingchurch.org.au
X-WR-CALDESC:Events for Drysdale Uniting Church
REFRESH-INTERVAL;VALUE=DURATION:PT1H
X-Robots-Tag:noindex
X-PUBLISHED-TTL:PT1H
BEGIN:VTIMEZONE
TZID:Australia/Melbourne
BEGIN:STANDARD
TZOFFSETFROM:+1100
TZOFFSETTO:+1000
TZNAME:AEST
DTSTART:20250405T160000
END:STANDARD
BEGIN:DAYLIGHT
TZOFFSETFROM:+1000
TZOFFSETTO:+1100
TZNAME:AEDT
DTSTART:20251004T160000
END:DAYLIGHT
BEGIN:STANDARD
TZOFFSETFROM:+1100
TZOFFSETTO:+1000
TZNAME:AEST
DTSTART:20260404T160000
END:STANDARD
BEGIN:DAYLIGHT
TZOFFSETFROM:+1000
TZOFFSETTO:+1100
TZNAME:AEDT
DTSTART:20261003T160000
END:DAYLIGHT
BEGIN:STANDARD
TZOFFSETFROM:+1100
TZOFFSETTO:+1000
TZNAME:AEST
DTSTART:20270403T160000
END:STANDARD
BEGIN:DAYLIGHT
TZOFFSETFROM:+1000
TZOFFSETTO:+1100
TZNAME:AEDT
DTSTART:20271002T160000
END:DAYLIGHT
END:VTIMEZONE
BEGIN:VEVENT
DTSTART;TZID=Australia/Melbourne:20260426T103000
DTEND;TZID=Australia/Melbourne:20260426T113000
DTSTAMP:20260426T015023
CREATED:20260423T124423Z
LAST-MODIFIED:20260423T124423Z
UID:8269-1777199400-1777203000@drysdale.unitingchurch.org.au
SUMMARY:Woship service
DESCRIPTION:Worship services covering a mixture of hymns played by organ or keyboard\, mostly led by our minister but with support from lay members of the congregation. First Sunday of the month is a Holy Communion service.
URL:https://drysdale.unitingchurch.org.au/event/woship-service/
LOCATION:Drysdale Uniting Church\, 22-24 High Street Drysdale\, Drysdale\, Victoria\, 3222\, Australia
CATEGORIES:Service
END:VEVENT
END:VCALENDAR