BEGIN:VCALENDAR
VERSION:2.0
PRODID:-//Drysdale Uniting Church - ECPv6.15.20//NONSGML v1.0//EN
CALSCALE:GREGORIAN
METHOD:PUBLISH
X-WR-CALNAME:Drysdale Uniting Church
X-ORIGINAL-URL:https://drysdale.unitingchurch.org.au
X-WR-CALDESC:Events for Drysdale Uniting Church
REFRESH-INTERVAL;VALUE=DURATION:PT1H
X-Robots-Tag:noindex
X-PUBLISHED-TTL:PT1H
BEGIN:VTIMEZONE
TZID:Australia/Melbourne
BEGIN:STANDARD
TZOFFSETFROM:+1100
TZOFFSETTO:+1000
TZNAME:AEST
DTSTART:20210403T160000
END:STANDARD
BEGIN:DAYLIGHT
TZOFFSETFROM:+1000
TZOFFSETTO:+1100
TZNAME:AEDT
DTSTART:20211002T160000
END:DAYLIGHT
BEGIN:STANDARD
TZOFFSETFROM:+1100
TZOFFSETTO:+1000
TZNAME:AEST
DTSTART:20220402T160000
END:STANDARD
BEGIN:DAYLIGHT
TZOFFSETFROM:+1000
TZOFFSETTO:+1100
TZNAME:AEDT
DTSTART:20221001T160000
END:DAYLIGHT
BEGIN:STANDARD
TZOFFSETFROM:+1100
TZOFFSETTO:+1000
TZNAME:AEST
DTSTART:20230401T160000
END:STANDARD
BEGIN:DAYLIGHT
TZOFFSETFROM:+1000
TZOFFSETTO:+1100
TZNAME:AEDT
DTSTART:20230930T160000
END:DAYLIGHT
BEGIN:STANDARD
TZOFFSETFROM:+1100
TZOFFSETTO:+1000
TZNAME:AEST
DTSTART:20240406T160000
END:STANDARD
BEGIN:DAYLIGHT
TZOFFSETFROM:+1000
TZOFFSETTO:+1100
TZNAME:AEDT
DTSTART:20241005T160000
END:DAYLIGHT
BEGIN:STANDARD
TZOFFSETFROM:+1100
TZOFFSETTO:+1000
TZNAME:AEST
DTSTART:20250405T160000
END:STANDARD
BEGIN:DAYLIGHT
TZOFFSETFROM:+1000
TZOFFSETTO:+1100
TZNAME:AEDT
DTSTART:20251004T160000
END:DAYLIGHT
BEGIN:STANDARD
TZOFFSETFROM:+1100
TZOFFSETTO:+1000
TZNAME:AEST
DTSTART:20260404T160000
END:STANDARD
BEGIN:DAYLIGHT
TZOFFSETFROM:+1000
TZOFFSETTO:+1100
TZNAME:AEDT
DTSTART:20261003T160000
END:DAYLIGHT
BEGIN:STANDARD
TZOFFSETFROM:+1100
TZOFFSETTO:+1000
TZNAME:AEST
DTSTART:20270403T160000
END:STANDARD
BEGIN:DAYLIGHT
TZOFFSETFROM:+1000
TZOFFSETTO:+1100
TZNAME:AEDT
DTSTART:20271002T160000
END:DAYLIGHT
END:VTIMEZONE
BEGIN:VEVENT
DTSTART;TZID=Australia/Melbourne:20260329T101500
DTEND;TZID=Australia/Melbourne:20260329T113000
DTSTAMP:20260425T063002
CREATED:20260216T004017Z
LAST-MODIFIED:20260216T004017Z
UID:8055-1774779300-1774783800@drysdale.unitingchurch.org.au
SUMMARY:Worship Service
DESCRIPTION:Worship services covering a mixture of hymns played by organ or keyboard\, mostly led by our minister but with support from lay members of the congregation. First Sunday of the month is a Holy Communion service.
URL:https://drysdale.unitingchurch.org.au/event/worship-service-161/
LOCATION:Drysdale Uniting Church\, 22-24 High Street Drysdale\, Drysdale\, Victoria\, 3222\, Australia
CATEGORIES:Combined service
END:VEVENT
BEGIN:VEVENT
DTSTART;TZID=Australia/Melbourne:20250330T101500
DTEND;TZID=Australia/Melbourne:20250330T113000
DTSTAMP:20260425T063002
CREATED:20250221T050249Z
LAST-MODIFIED:20250221T050249Z
UID:7950-1743329700-1743334200@drysdale.unitingchurch.org.au
SUMMARY:Combined worship service
DESCRIPTION:Combined service of the Linked Congregations of Bellarine. This service alternates between Drysdale and Portarlington on the fifth Sunday. A shared lunch follows the service.\nThis one will be at Portarlington.\nPreacher will be Rev Karen Eller
URL:https://drysdale.unitingchurch.org.au/event/combined-worship-service/
LOCATION:St. Andrews Portarlington Uniting Church\, Newcombe St\, Portarlington\, Vic\, 3223\, Australia
CATEGORIES:Combined service
END:VEVENT
BEGIN:VEVENT
DTSTART;TZID=Australia/Melbourne:20241229T101500
DTEND;TZID=Australia/Melbourne:20241229T113000
DTSTAMP:20260425T063002
CREATED:20240911T073945Z
LAST-MODIFIED:20240911T073945Z
UID:7816-1735467300-1735471800@drysdale.unitingchurch.org.au
SUMMARY:Combined service
DESCRIPTION:Combined service of the Linked Congregations of Bellarine. This service alternates between Drysdale and Portarlington on the fifth Sunday. A shared lunch follows the service. \nPreacher will be Rev Karen Eller
URL:https://drysdale.unitingchurch.org.au/event/combined-service-11/
LOCATION:St. Andrews Portarlington Uniting Church\, Newcombe St\, Portarlington\, Vic\, 3223\, Australia
CATEGORIES:Combined service
END:VEVENT
BEGIN:VEVENT
DTSTART;TZID=Australia/Melbourne:20240929T101500
DTEND;TZID=Australia/Melbourne:20240929T113000
DTSTAMP:20260425T063002
CREATED:20240911T073843Z
LAST-MODIFIED:20240911T073843Z
UID:7814-1727604900-1727609400@drysdale.unitingchurch.org.au
SUMMARY:Combined service
DESCRIPTION:Combined service of the Linked Congregations of Bellarine. This service alternates between Drysdale and Portarlington on the fifth Sunday. A shared lunch follows the service. \nPreacher will be Rev Karen Eller
URL:https://drysdale.unitingchurch.org.au/event/combined-service-10/
LOCATION:St. Andrews Portarlington Uniting Church\, Newcombe St\, Portarlington\, Vic\, 3223\, Australia
CATEGORIES:Combined service
END:VEVENT
BEGIN:VEVENT
DTSTART;TZID=Australia/Melbourne:20231231T101500
DTEND;TZID=Australia/Melbourne:20231231T113000
DTSTAMP:20260425T063002
CREATED:20230830T042700Z
LAST-MODIFIED:20230830T042700Z
UID:6813-1704017700-1704022200@drysdale.unitingchurch.org.au
SUMMARY:Combined service
DESCRIPTION:Combined service of the Linked Congregations of Bellarine. This service alternates between Drysdale and Portarlington on the fifth Sunday. A shared lunch follows the service. \nPreacher will be Rev Karen Eller
URL:https://drysdale.unitingchurch.org.au/event/combined-service-5/
LOCATION:St. Andrews Portarlington Uniting Church\, Newcombe St\, Portarlington\, Vic\, 3223\, Australia
CATEGORIES:Combined service
END:VEVENT
BEGIN:VEVENT
DTSTART;TZID=Australia/Melbourne:20231029T101500
DTEND;TZID=Australia/Melbourne:20231029T113000
DTSTAMP:20260425T063002
CREATED:20230830T042601Z
LAST-MODIFIED:20230830T042601Z
UID:6811-1698574500-1698579000@drysdale.unitingchurch.org.au
SUMMARY:Combined service
DESCRIPTION:Combined service of the Linked Congregations of Bellarine. This service alternates between Drysdale and Portarlington on the fifth Sunday. A shared lunch follows the service. \nPreacher will be Rev Karen Eller
URL:https://drysdale.unitingchurch.org.au/event/combined-service-4/
LOCATION:Drysdale Uniting Church\, 22-24 High Street Drysdale\, Drysdale\, Victoria\, 3222\, Australia
CATEGORIES:Combined service
END:VEVENT
BEGIN:VEVENT
DTSTART;TZID=Australia/Melbourne:20230730T080000
DTEND;TZID=Australia/Melbourne:20230730T170000
DTSTAMP:20260425T063002
CREATED:20230428T121944Z
LAST-MODIFIED:20230428T121944Z
UID:6561-1690704000-1690736400@drysdale.unitingchurch.org.au
SUMMARY:Combined Service
DESCRIPTION:Combined service of the Linked Congregations of Bellarine. This service alternates between Drysdale and Portarlington on the fifth Sunday. A shared lunch follows the service. \nPreacher will be Rev Karen Eller
URL:https://drysdale.unitingchurch.org.au/event/combined-service-3/
LOCATION:Victoria
CATEGORIES:Combined service
END:VEVENT
BEGIN:VEVENT
DTSTART;TZID=Australia/Melbourne:20230430T101500
DTEND;TZID=Australia/Melbourne:20230430T113000
DTSTAMP:20260425T063002
CREATED:20230418T074845Z
LAST-MODIFIED:20230418T074845Z
UID:6523-1682849700-1682854200@drysdale.unitingchurch.org.au
SUMMARY:Combined Service
DESCRIPTION:Combined service of the Linked Congregations of Bellarine. This service alternates between Drysdale and Portarlington on the fifth Sunday. \nPreacher will be Rev Karen Eller
URL:https://drysdale.unitingchurch.org.au/event/combined-service-2/
LOCATION:St. Andrews Portarlington Uniting Church\, Newcombe St\, Portarlington\, Vic\, 3223\, Australia
CATEGORIES:Combined service
END:VEVENT
BEGIN:VEVENT
DTSTART;TZID=Australia/Melbourne:20230406T183000
DTEND;TZID=Australia/Melbourne:20230406T200000
DTSTAMP:20260425T063002
CREATED:20230108T115021Z
LAST-MODIFIED:20230418T075302Z
UID:6395-1680805800-1680811200@drysdale.unitingchurch.org.au
SUMMARY:Maundy Thursday Service
DESCRIPTION:Combined service of the Linked Congregations – alternating between Drysdale and Portarlington. \nThis will include Dinner – no cost. All are welcome.
URL:https://drysdale.unitingchurch.org.au/event/maundy-thursday-service/
LOCATION:Drysdale Uniting Church\, 22-24 High Street Drysdale\, Drysdale\, Victoria\, 3222\, Australia
CATEGORIES:Combined service
END:VEVENT
BEGIN:VEVENT
DTSTART;TZID=Australia/Melbourne:20230222T190000
DTEND;TZID=Australia/Melbourne:20230222T200000
DTSTAMP:20260425T063002
CREATED:20230108T111700Z
LAST-MODIFIED:20230108T111700Z
UID:6352-1677092400-1677096000@drysdale.unitingchurch.org.au
SUMMARY:Ash Wednesday Service
DESCRIPTION:A special service of the Linked Congregations to celebrate Ash Wednesday and the start of Lent.
URL:https://drysdale.unitingchurch.org.au/event/ash-wednesday-service/
LOCATION:St. Andrews Portarlington Uniting Church\, Newcombe St\, Portarlington\, Vic\, 3223\, Australia
CATEGORIES:Combined service
END:VEVENT
BEGIN:VEVENT
DTSTART;TZID=Australia/Melbourne:20230129T101500
DTEND;TZID=Australia/Melbourne:20230129T113000
DTSTAMP:20260425T063002
CREATED:20230105T001653Z
LAST-MODIFIED:20230105T001653Z
UID:6313-1674987300-1674991800@drysdale.unitingchurch.org.au
SUMMARY:Combined service
DESCRIPTION:Combined service of the Linked Congregations of Bellarine. This service alternates between Drysdale and Portarlington on the fifth Sunday. \nPreacher will be Rev Karen Eller
URL:https://drysdale.unitingchurch.org.au/event/combined-service/
LOCATION:Drysdale Uniting Church\, 22-24 High Street Drysdale\, Drysdale\, Victoria\, 3222\, Australia
CATEGORIES:Combined service
END:VEVENT
BEGIN:VEVENT
DTSTART;TZID=Australia/Melbourne:20221030T101500
DTEND;TZID=Australia/Melbourne:20221030T113000
DTSTAMP:20260425T063002
CREATED:20220823T021316Z
LAST-MODIFIED:20220823T021316Z
UID:5496-1667124900-1667129400@drysdale.unitingchurch.org.au
SUMMARY:Combined service
DESCRIPTION:Combined service of the Linked Congregations of Bellarine. This service alternates between Drysdale and Portarlington on the fifth Sunday. \nPreacher will be Rev Karen Eller
URL:https://drysdale.unitingchurch.org.au/event/combined-service-8/
LOCATION:St. Andrews Portarlington Uniting Church\, Newcombe St\, Portarlington\, Vic\, 3223\, Australia
CATEGORIES:Combined service
END:VEVENT
BEGIN:VEVENT
DTSTART;TZID=Australia/Melbourne:20220731T101500
DTEND;TZID=Australia/Melbourne:20220731T113000
DTSTAMP:20260425T063002
CREATED:20220529T121946Z
LAST-MODIFIED:20220529T121946Z
UID:4950-1659262500-1659267000@drysdale.unitingchurch.org.au
SUMMARY:Combined service
DESCRIPTION:Combined service of the Linked Congregations of Bellarine. This service alternates between Drysdale and Portarlington on the fifth Sunday. \nPreacher will be Rev Karen Eller
URL:https://drysdale.unitingchurch.org.au/event/combined-service-7/
LOCATION:Drysdale Uniting Church\, 22-24 High Street Drysdale\, Drysdale\, Victoria\, 3222\, Australia
CATEGORIES:Combined service
END:VEVENT
BEGIN:VEVENT
DTSTART;TZID=Australia/Melbourne:20220529T101500
DTEND;TZID=Australia/Melbourne:20220529T113000
DTSTAMP:20260425T063002
CREATED:20220416T092514Z
LAST-MODIFIED:20220416T092514Z
UID:4284-1653819300-1653823800@drysdale.unitingchurch.org.au
SUMMARY:Combined Service
DESCRIPTION:Combined service of the Linked Congregations of Bellarine. This service alternates between Drysdale and Portarlington on the fifth Sunday. \nPreacher will be Rev Narelle Collas
URL:https://drysdale.unitingchurch.org.au/event/combined-service-6/
LOCATION:St. Andrews Portarlington Uniting Church\, Newcombe St\, Portarlington\, Vic\, 3223\, Australia
CATEGORIES:Combined service
END:VEVENT
BEGIN:VEVENT
DTSTART;TZID=Australia/Melbourne:20220414T193000
DTEND;TZID=Australia/Melbourne:20220414T203000
DTSTAMP:20260425T063002
CREATED:20220314T122246Z
LAST-MODIFIED:20220314T122246Z
UID:4185-1649964600-1649968200@drysdale.unitingchurch.org.au
SUMMARY:Maundy Thursday Service
DESCRIPTION:Service for the Linked Congregations of Bellarine – Service of Tenebrae
URL:https://drysdale.unitingchurch.org.au/event/maundy-thursday-service-2/
LOCATION:St. Andrews Portarlington Uniting Church\, Newcombe St\, Portarlington\, Vic\, 3223\, Australia
CATEGORIES:Combined service
ORGANIZER;CN="Wayne Myers":MAILTO:waynemyers@outlook.com
END:VEVENT
BEGIN:VEVENT
DTSTART;TZID=Australia/Melbourne:20220130T101500
DTEND;TZID=Australia/Melbourne:20220130T113000
DTSTAMP:20260425T063002
CREATED:20220129T103945Z
LAST-MODIFIED:20220129T103945Z
UID:4036-1643537700-1643542200@drysdale.unitingchurch.org.au
SUMMARY:Linked Congregations Combined Service
DESCRIPTION:Worship services on fifth Sundays are combined for the Linked Congregations alternating between Drysdale and Portarlington. This service will be at Drysdale.
URL:https://drysdale.unitingchurch.org.au/event/linked-congregations-combined-service-3/
LOCATION:Drysdale Uniting Church\, 22-24 High Street Drysdale\, Drysdale\, Victoria\, 3222\, Australia
CATEGORIES:Combined service
ORGANIZER;CN="Wayne Myers":MAILTO:waynemyers@outlook.com
END:VEVENT
END:VCALENDAR