BEGIN:VCALENDAR
VERSION:2.0
PRODID:-//Drysdale Uniting Church - ECPv6.15.20//NONSGML v1.0//EN
CALSCALE:GREGORIAN
METHOD:PUBLISH
X-WR-CALNAME:Drysdale Uniting Church
X-ORIGINAL-URL:https://drysdale.unitingchurch.org.au
X-WR-CALDESC:Events for Drysdale Uniting Church
REFRESH-INTERVAL;VALUE=DURATION:PT1H
X-Robots-Tag:noindex
X-PUBLISHED-TTL:PT1H
BEGIN:VTIMEZONE
TZID:Australia/Melbourne
BEGIN:STANDARD
TZOFFSETFROM:+1100
TZOFFSETTO:+1000
TZNAME:AEST
DTSTART:20250405T160000
END:STANDARD
BEGIN:DAYLIGHT
TZOFFSETFROM:+1000
TZOFFSETTO:+1100
TZNAME:AEDT
DTSTART:20251004T160000
END:DAYLIGHT
BEGIN:STANDARD
TZOFFSETFROM:+1100
TZOFFSETTO:+1000
TZNAME:AEST
DTSTART:20260404T160000
END:STANDARD
BEGIN:DAYLIGHT
TZOFFSETFROM:+1000
TZOFFSETTO:+1100
TZNAME:AEDT
DTSTART:20261003T160000
END:DAYLIGHT
BEGIN:STANDARD
TZOFFSETFROM:+1100
TZOFFSETTO:+1000
TZNAME:AEST
DTSTART:20270403T160000
END:STANDARD
BEGIN:DAYLIGHT
TZOFFSETFROM:+1000
TZOFFSETTO:+1100
TZNAME:AEDT
DTSTART:20271002T160000
END:DAYLIGHT
END:VTIMEZONE
BEGIN:VEVENT
DTSTART;TZID=Australia/Melbourne:20260316T093000
DTEND;TZID=Australia/Melbourne:20260316T103000
DTSTAMP:20260425T104957
CREATED:20260216T013134Z
LAST-MODIFIED:20260216T013134Z
UID:8101-1773653400-1773657000@drysdale.unitingchurch.org.au
SUMMARY:KYB (Know Your Bible)
DESCRIPTION:KYB (Know Your Bible) is a women’s bible study group using material provided by Christian Women Communicating International. All welcome.
URL:https://drysdale.unitingchurch.org.au/event/kyb-know-your-bible-78/
LOCATION:Drysdale Uniting Church\, 22-24 High Street Drysdale\, Drysdale\, Victoria\, 3222\, Australia
CATEGORIES:Bible Study
END:VEVENT
BEGIN:VEVENT
DTSTART;TZID=Australia/Melbourne:20260315T103000
DTEND;TZID=Australia/Melbourne:20260315T113000
DTSTAMP:20260425T104957
CREATED:20260216T003810Z
LAST-MODIFIED:20260216T003810Z
UID:8051-1773570600-1773574200@drysdale.unitingchurch.org.au
SUMMARY:Worship Service
DESCRIPTION:Worship services covering a mixture of hymns played by organ or keyboard\, mostly led by our minister but with support from lay members of the congregation. First Sunday of the month is a Holy Communion service.
URL:https://drysdale.unitingchurch.org.au/event/worship-service-159/
LOCATION:Drysdale Uniting Church\, 22-24 High Street Drysdale\, Drysdale\, Victoria\, 3222\, Australia
CATEGORIES:Service
END:VEVENT
BEGIN:VEVENT
DTSTART;TZID=Australia/Melbourne:20260311T140000
DTEND;TZID=Australia/Melbourne:20260311T150000
DTSTAMP:20260425T104957
CREATED:20260216T010652Z
LAST-MODIFIED:20260216T010652Z
UID:8073-1773237600-1773241200@drysdale.unitingchurch.org.au
SUMMARY:Lenten Study 1
DESCRIPTION:Lenten study using the book “A Cross in the Heart of God” by Samuel Wells over three weeks. Open to all.
URL:https://drysdale.unitingchurch.org.au/event/lenten-study-1/
LOCATION:Drysdale Uniting Church\, 22-24 High Street Drysdale\, Drysdale\, Victoria\, 3222\, Australia
CATEGORIES:Special Event
END:VEVENT
BEGIN:VEVENT
DTSTART;TZID=Australia/Melbourne:20260311T100000
DTEND;TZID=Australia/Melbourne:20260311T120000
DTSTAMP:20260425T104957
CREATED:20260216T014154Z
LAST-MODIFIED:20260216T014154Z
UID:8119-1773223200-1773230400@drysdale.unitingchurch.org.au
SUMMARY:Open Church
DESCRIPTION:Church open for private prayer and meditation
URL:https://drysdale.unitingchurch.org.au/event/open-church-96/
LOCATION:Drysdale Uniting Church\, 22-24 High Street Drysdale\, Drysdale\, Victoria\, 3222\, Australia
CATEGORIES:Open Church
ORGANIZER;CN="Wayne Myers":MAILTO:waynemyers@outlook.com
END:VEVENT
BEGIN:VEVENT
DTSTART;TZID=Australia/Melbourne:20260311T100000
DTEND;TZID=Australia/Melbourne:20260311T120000
DTSTAMP:20260425T104957
CREATED:20260216T013902Z
LAST-MODIFIED:20260216T013902Z
UID:8113-1773223200-1773230400@drysdale.unitingchurch.org.au
SUMMARY:Open Church
DESCRIPTION:Church open for private prayer and meditation
URL:https://drysdale.unitingchurch.org.au/event/open-church-93/
LOCATION:Drysdale Uniting Church\, 22-24 High Street Drysdale\, Drysdale\, Victoria\, 3222\, Australia
CATEGORIES:Open Church
ORGANIZER;CN="Wayne Myers":MAILTO:waynemyers@outlook.com
END:VEVENT
BEGIN:VEVENT
DTSTART;TZID=Australia/Melbourne:20260308T103000
DTEND;TZID=Australia/Melbourne:20260308T113000
DTSTAMP:20260425T104957
CREATED:20260216T015012Z
LAST-MODIFIED:20260216T015012Z
UID:8123-1772965800-1772969400@drysdale.unitingchurch.org.au
SUMMARY:Worship Service
DESCRIPTION:Worship services covering a mixture of hymns played by organ or keyboard\, mostly led by our minister but with support from lay members of the congregation. First Sunday of the month is a Holy Communion service.
URL:https://drysdale.unitingchurch.org.au/event/worship-service-168/
LOCATION:Drysdale Uniting Church\, 22-24 High Street Drysdale\, Drysdale\, Victoria\, 3222\, Australia
CATEGORIES:Service
END:VEVENT
BEGIN:VEVENT
DTSTART;TZID=Australia/Melbourne:20260306T100000
DTEND;TZID=Australia/Melbourne:20260306T110000
DTSTAMP:20260425T104957
CREATED:20260216T010057Z
LAST-MODIFIED:20260216T010057Z
UID:8069-1772791200-1772794800@drysdale.unitingchurch.org.au
SUMMARY:Wprld Day of Prayer service
DESCRIPTION:Ecumenical service for World Day of Prayer organised by the Combined Churches of Drysdale\, Clifton Springs and Curlewis. Open to all.\nFocus country is Nigeria. Includes guest speaker.
URL:https://drysdale.unitingchurch.org.au/event/wprld-day-of-prayer-service/
LOCATION:Central Baptist Church\, 45-51 Central Road\, Clifton Springs\, Vic\, 3222
CATEGORIES:Special Event
ORGANIZER;CN="Wayne Myers":MAILTO:waynemyers@outlook.com
END:VEVENT
BEGIN:VEVENT
DTSTART;TZID=Australia/Melbourne:20260304T100000
DTEND;TZID=Australia/Melbourne:20260304T120000
DTSTAMP:20260425T104957
CREATED:20260216T013805Z
LAST-MODIFIED:20260216T013805Z
UID:8111-1772618400-1772625600@drysdale.unitingchurch.org.au
SUMMARY:Open Church
DESCRIPTION:Church open for private prayer and meditation
URL:https://drysdale.unitingchurch.org.au/event/open-church-92/
LOCATION:Drysdale Uniting Church\, 22-24 High Street Drysdale\, Drysdale\, Victoria\, 3222\, Australia
CATEGORIES:Open Church
ORGANIZER;CN="Wayne Myers":MAILTO:waynemyers@outlook.com
END:VEVENT
BEGIN:VEVENT
DTSTART;TZID=Australia/Melbourne:20260303T090000
DTEND;TZID=Australia/Melbourne:20260303T100000
DTSTAMP:20260425T104957
CREATED:20260216T005755Z
LAST-MODIFIED:20260216T005755Z
UID:8067-1772528400-1772532000@drysdale.unitingchurch.org.au
SUMMARY:Op Shop Committee
DESCRIPTION:Meeting of Op Shop Committee
URL:https://drysdale.unitingchurch.org.au/event/op-shop-committee-5/
LOCATION:Drysdale Uniting Church\, 22-24 High Street Drysdale\, Drysdale\, Victoria\, 3222\, Australia
CATEGORIES:Meetings
ORGANIZER;CN="Wayne Myers":MAILTO:waynemyers@outlook.com
END:VEVENT
BEGIN:VEVENT
DTSTART;TZID=Australia/Melbourne:20260302T093000
DTEND;TZID=Australia/Melbourne:20260302T103000
DTSTAMP:20260425T104957
CREATED:20260216T013034Z
LAST-MODIFIED:20260216T013034Z
UID:8099-1772443800-1772447400@drysdale.unitingchurch.org.au
SUMMARY:KYB (Know Your Bible)
DESCRIPTION:KYB (Know Your Bible) is a women’s bible study group using material provided by Christian Women Communicating International. All welcome.
URL:https://drysdale.unitingchurch.org.au/event/kyb-know-your-bible-77/
LOCATION:Drysdale Uniting Church\, 22-24 High Street Drysdale\, Drysdale\, Victoria\, 3222\, Australia
CATEGORIES:Bible Study
END:VEVENT
BEGIN:VEVENT
DTSTART;TZID=Australia/Melbourne:20260301T121500
DTEND;TZID=Australia/Melbourne:20260301T140000
DTSTAMP:20260425T104957
CREATED:20260216T005619Z
LAST-MODIFIED:20260216T005619Z
UID:8065-1772367300-1772373600@drysdale.unitingchurch.org.au
SUMMARY:"0" Birthday Lunch
DESCRIPTION:A lunch to celebrate 0 birthday of congregation members.
URL:https://drysdale.unitingchurch.org.au/event/0-birthday-lunch-3/
LOCATION:Clifton Springs Golf Club
CATEGORIES:Special Event
ORGANIZER;CN="Wayne Myers":MAILTO:waynemyers@outlook.com
END:VEVENT
BEGIN:VEVENT
DTSTART;TZID=Australia/Melbourne:20260301T103000
DTEND;TZID=Australia/Melbourne:20260301T113000
DTSTAMP:20260425T104957
CREATED:20260216T003453Z
LAST-MODIFIED:20260216T003453Z
UID:8048-1772361000-1772364600@drysdale.unitingchurch.org.au
SUMMARY:Worship Service
DESCRIPTION:Worship services covering a mixture of hymns played by organ or keyboard\, mostly led by our minister but with support from lay members of the congregation. First Sunday of the month is a Holy Communion service.
URL:https://drysdale.unitingchurch.org.au/event/worship-service-157/
LOCATION:Drysdale Uniting Church\, 22-24 High Street Drysdale\, Drysdale\, Victoria\, 3222\, Australia
CATEGORIES:Service
END:VEVENT
BEGIN:VEVENT
DTSTART;TZID=Australia/Melbourne:20260225T100000
DTEND;TZID=Australia/Melbourne:20260225T120000
DTSTAMP:20260425T104957
CREATED:20260216T013711Z
LAST-MODIFIED:20260216T013711Z
UID:8109-1772013600-1772020800@drysdale.unitingchurch.org.au
SUMMARY:Open Church
DESCRIPTION:Church open for private prayer and meditation
URL:https://drysdale.unitingchurch.org.au/event/open-church-91/
LOCATION:Drysdale Uniting Church\, 22-24 High Street Drysdale\, Drysdale\, Victoria\, 3222\, Australia
CATEGORIES:Open Church
ORGANIZER;CN="Wayne Myers":MAILTO:waynemyers@outlook.com
END:VEVENT
BEGIN:VEVENT
DTSTART;TZID=Australia/Melbourne:20260223T093000
DTEND;TZID=Australia/Melbourne:20260223T103000
DTSTAMP:20260425T104957
CREATED:20260216T012933Z
LAST-MODIFIED:20260216T012933Z
UID:8097-1771839000-1771842600@drysdale.unitingchurch.org.au
SUMMARY:KYB (Know Your Bible)
DESCRIPTION:KYB (Know Your Bible) is a women’s bible study group using material provided by Christian Women Communicating International. All welcome.
URL:https://drysdale.unitingchurch.org.au/event/kyb-know-your-bible-76/
LOCATION:Drysdale Uniting Church\, 22-24 High Street Drysdale\, Drysdale\, Victoria\, 3222\, Australia
CATEGORIES:Bible Study
END:VEVENT
BEGIN:VEVENT
DTSTART;TZID=Australia/Melbourne:20260222T103000
DTEND;TZID=Australia/Melbourne:20260222T113000
DTSTAMP:20260425T104957
CREATED:20260216T003357Z
LAST-MODIFIED:20260216T003357Z
UID:8046-1771756200-1771759800@drysdale.unitingchurch.org.au
SUMMARY:Worship Service
DESCRIPTION:Worship services covering a mixture of hymns played by organ or keyboard\, mostly led by our minister but with support from lay members of the congregation. First Sunday of the month is a Holy Communion service.
URL:https://drysdale.unitingchurch.org.au/event/worship-service-156/
LOCATION:Drysdale Uniting Church\, 22-24 High Street Drysdale\, Drysdale\, Victoria\, 3222\, Australia
CATEGORIES:Service
END:VEVENT
BEGIN:VEVENT
DTSTART;TZID=Australia/Melbourne:20260221T080000
DTEND;TZID=Australia/Melbourne:20260221T091500
DTSTAMP:20260425T104957
CREATED:20260216T005205Z
LAST-MODIFIED:20260216T005205Z
UID:8063-1771660800-1771665300@drysdale.unitingchurch.org.au
SUMMARY:Breakfast Bible Study
DESCRIPTION:A bible study held with breakfast at Cafe Zoo. The study book for 2026 is “New Testament Characters” by Carolyn Nystrom.\n Open to all. No cost other than own breakfast cost.
URL:https://drysdale.unitingchurch.org.au/event/breakfast-bible-study-34/
LOCATION:Cafe Zoo\, 23 High St\, Drysdale\, Victoria\, 3222\, Australia
CATEGORIES:Bible Study
ORGANIZER;CN="Wayne Myers":MAILTO:waynemyers@outlook.com
END:VEVENT
BEGIN:VEVENT
DTSTART;TZID=Australia/Melbourne:20260219T190000
DTEND;TZID=Australia/Melbourne:20260219T210000
DTSTAMP:20260425T104957
CREATED:20260216T004822Z
LAST-MODIFIED:20260216T004822Z
UID:8061-1771527600-1771534800@drysdale.unitingchurch.org.au
SUMMARY:Church Council
DESCRIPTION:Meeting of the Church Council of Elders and Councillors to care for and manage the day-to-day affairs of the congregation.
URL:https://drysdale.unitingchurch.org.au/event/church-council-16/
LOCATION:Drysdale Uniting Church\, 22-24 High Street Drysdale\, Drysdale\, Victoria\, 3222\, Australia
CATEGORIES:Meetings
ORGANIZER;CN="Wayne Myers":MAILTO:waynemyers@outlook.com
END:VEVENT
BEGIN:VEVENT
DTSTART;TZID=Australia/Melbourne:20260218T140000
DTEND;TZID=Australia/Melbourne:20260218T150000
DTSTAMP:20260425T104957
CREATED:20260216T004606Z
LAST-MODIFIED:20260216T004606Z
UID:8059-1771423200-1771426800@drysdale.unitingchurch.org.au
SUMMARY:Ash Wednesday Service
DESCRIPTION:A short service for Ash Wednesday – the start of Lent.
URL:https://drysdale.unitingchurch.org.au/event/ash-wednesday-service-4/
LOCATION:Drysdale Uniting Church\, 22-24 High Street Drysdale\, Drysdale\, Victoria\, 3222\, Australia
CATEGORIES:Service,Special Event
END:VEVENT
BEGIN:VEVENT
DTSTART;TZID=Australia/Melbourne:20260218T100000
DTEND;TZID=Australia/Melbourne:20260218T120000
DTSTAMP:20260425T104957
CREATED:20260216T013620Z
LAST-MODIFIED:20260216T013620Z
UID:8107-1771408800-1771416000@drysdale.unitingchurch.org.au
SUMMARY:Open Church
DESCRIPTION:Church open for private prayer and meditation
URL:https://drysdale.unitingchurch.org.au/event/open-church-90/
LOCATION:Drysdale Uniting Church\, 22-24 High Street Drysdale\, Drysdale\, Victoria\, 3222\, Australia
CATEGORIES:Open Church
ORGANIZER;CN="Wayne Myers":MAILTO:waynemyers@outlook.com
END:VEVENT
BEGIN:VEVENT
DTSTART;TZID=Australia/Melbourne:20260217T173000
DTEND;TZID=Australia/Melbourne:20260217T190000
DTSTAMP:20260425T104957
CREATED:20260216T004401Z
LAST-MODIFIED:20260216T004401Z
UID:8057-1771349400-1771354800@drysdale.unitingchurch.org.au
SUMMARY:Pancake Dinner
DESCRIPTION:Pancake Dinner to celebrate Shrove Tuesday and to fundraise for Uniting’s Pancake Appeal. Tickets $15\, children $10\, for all you can eat savoury and sweet pancakes. Contact 0425 814 033 for tickets.
URL:https://drysdale.unitingchurch.org.au/event/pancake-dinner-5/
LOCATION:Drysdale Uniting Church\, 22-24 High Street Drysdale\, Drysdale\, Victoria\, 3222\, Australia
CATEGORIES:Special Event
END:VEVENT
BEGIN:VEVENT
DTSTART;TZID=Australia/Melbourne:20260216T093000
DTEND;TZID=Australia/Melbourne:20260216T103000
DTSTAMP:20260425T104957
CREATED:20260216T012830Z
LAST-MODIFIED:20260216T012830Z
UID:8095-1771234200-1771237800@drysdale.unitingchurch.org.au
SUMMARY:KYB (Know Your Bible)
DESCRIPTION:KYB (Know Your Bible) is a women’s bible study group using material provided by Christian Women Communicating International. All welcome.
URL:https://drysdale.unitingchurch.org.au/event/kyb-know-your-bible-75/
LOCATION:Drysdale Uniting Church\, 22-24 High Street Drysdale\, Drysdale\, Victoria\, 3222\, Australia
CATEGORIES:Bible Study
END:VEVENT
BEGIN:VEVENT
DTSTART;TZID=Australia/Melbourne:20260215T103000
DTEND;TZID=Australia/Melbourne:20260215T113000
DTSTAMP:20260425T104957
CREATED:20260216T003303Z
LAST-MODIFIED:20260216T003303Z
UID:8044-1771151400-1771155000@drysdale.unitingchurch.org.au
SUMMARY:Worship Service
DESCRIPTION:Worship services covering a mixture of hymns played by organ or keyboard\, mostly led by our minister but with support from lay members of the congregation. First Sunday of the month is a Holy Communion service.
URL:https://drysdale.unitingchurch.org.au/event/worship-service-155/
LOCATION:Drysdale Uniting Church\, 22-24 High Street Drysdale\, Drysdale\, Victoria\, 3222\, Australia
CATEGORIES:Service
END:VEVENT
BEGIN:VEVENT
DTSTART;TZID=Australia/Melbourne:20260209T093000
DTEND;TZID=Australia/Melbourne:20260209T103000
DTSTAMP:20260425T104957
CREATED:20260216T012728Z
LAST-MODIFIED:20260216T012728Z
UID:8093-1770629400-1770633000@drysdale.unitingchurch.org.au
SUMMARY:KYB (Know Your Bible)
DESCRIPTION:KYB (Know Your Bible) is a women’s bible study group using material provided by Christian Women Communicating International. All welcome.
URL:https://drysdale.unitingchurch.org.au/event/kyb-know-your-bible-74/
LOCATION:Drysdale Uniting Church\, 22-24 High Street Drysdale\, Drysdale\, Victoria\, 3222\, Australia
CATEGORIES:Bible Study
END:VEVENT
BEGIN:VEVENT
DTSTART;TZID=Australia/Melbourne:20260208T103000
DTEND;TZID=Australia/Melbourne:20260208T113000
DTSTAMP:20260425T104957
CREATED:20260216T011209Z
LAST-MODIFIED:20260216T011209Z
UID:8079-1770546600-1770550200@drysdale.unitingchurch.org.au
SUMMARY:Worship Service
DESCRIPTION:Worship services covering a mixture of hymns played by organ or keyboard\, mostly led by our minister but with support from lay members of the congregation. First Sunday of the month is a Holy Communion service.
URL:https://drysdale.unitingchurch.org.au/event/worship-service-162/
LOCATION:Drysdale Uniting Church\, 22-24 High Street Drysdale\, Drysdale\, Victoria\, 3222\, Australia
CATEGORIES:Service
END:VEVENT
BEGIN:VEVENT
DTSTART;TZID=Australia/Melbourne:20260204T100000
DTEND;TZID=Australia/Melbourne:20260204T120000
DTSTAMP:20260425T104957
CREATED:20260216T014307Z
LAST-MODIFIED:20260216T014307Z
UID:8121-1770199200-1770206400@drysdale.unitingchurch.org.au
SUMMARY:Open Church
DESCRIPTION:Church open for private prayer and meditation
URL:https://drysdale.unitingchurch.org.au/event/open-church-97/
LOCATION:Drysdale Uniting Church\, 22-24 High Street Drysdale\, Drysdale\, Victoria\, 3222\, Australia
CATEGORIES:Open Church
ORGANIZER;CN="Wayne Myers":MAILTO:waynemyers@outlook.com
END:VEVENT
BEGIN:VEVENT
DTSTART;TZID=Australia/Melbourne:20260202T093000
DTEND;TZID=Australia/Melbourne:20260202T103000
DTSTAMP:20260425T104957
CREATED:20260216T012623Z
LAST-MODIFIED:20260216T012623Z
UID:8091-1770024600-1770028200@drysdale.unitingchurch.org.au
SUMMARY:KYB (Know Your Bible)
DESCRIPTION:KYB (Know Your Bible) is a women’s bible study group using material provided by Christian Women Communicating International. All welcome.
URL:https://drysdale.unitingchurch.org.au/event/kyb-know-your-bible-73/
LOCATION:Drysdale Uniting Church\, 22-24 High Street Drysdale\, Drysdale\, Victoria\, 3222\, Australia
CATEGORIES:Bible Study
END:VEVENT
BEGIN:VEVENT
DTSTART;TZID=Australia/Melbourne:20260201T103000
DTEND;TZID=Australia/Melbourne:20260201T113000
DTSTAMP:20260425T104957
CREATED:20260216T011320Z
LAST-MODIFIED:20260216T011320Z
UID:8081-1769941800-1769945400@drysdale.unitingchurch.org.au
SUMMARY:Worship Service
DESCRIPTION:Worship services covering a mixture of hymns played by organ or keyboard\, mostly led by our minister but with support from lay members of the congregation. First Sunday of the month is a Holy Communion service.
URL:https://drysdale.unitingchurch.org.au/event/worship-service-163/
LOCATION:Drysdale Uniting Church\, 22-24 High Street Drysdale\, Drysdale\, Victoria\, 3222\, Australia
CATEGORIES:Service
END:VEVENT
BEGIN:VEVENT
DTSTART;TZID=Australia/Melbourne:20260125T103000
DTEND;TZID=Australia/Melbourne:20260125T113000
DTSTAMP:20260425T104957
CREATED:20260216T012040Z
LAST-MODIFIED:20260216T012040Z
UID:8083-1769337000-1769340600@drysdale.unitingchurch.org.au
SUMMARY:Worship Service
DESCRIPTION:Worship services covering a mixture of hymns played by organ or keyboard\, mostly led by our minister but with support from lay members of the congregation. First Sunday of the month is a Holy Communion service.
URL:https://drysdale.unitingchurch.org.au/event/worship-service-164/
LOCATION:Drysdale Uniting Church\, 22-24 High Street Drysdale\, Drysdale\, Victoria\, 3222\, Australia
END:VEVENT
BEGIN:VEVENT
DTSTART;TZID=Australia/Melbourne:20260118T103000
DTEND;TZID=Australia/Melbourne:20260118T113000
DTSTAMP:20260425T104957
CREATED:20260216T012143Z
LAST-MODIFIED:20260216T012143Z
UID:8085-1768732200-1768735800@drysdale.unitingchurch.org.au
SUMMARY:Worship Service
DESCRIPTION:Worship services covering a mixture of hymns played by organ or keyboard\, mostly led by our minister but with support from lay members of the congregation. First Sunday of the month is a Holy Communion service.
URL:https://drysdale.unitingchurch.org.au/event/worship-service-165/
LOCATION:Drysdale Uniting Church\, 22-24 High Street Drysdale\, Drysdale\, Victoria\, 3222\, Australia
CATEGORIES:Service
END:VEVENT
BEGIN:VEVENT
DTSTART;TZID=Australia/Melbourne:20260111T103000
DTEND;TZID=Australia/Melbourne:20260111T113000
DTSTAMP:20260425T104957
CREATED:20260216T012244Z
LAST-MODIFIED:20260216T012244Z
UID:8087-1768127400-1768131000@drysdale.unitingchurch.org.au
SUMMARY:Worship Service
DESCRIPTION:Worship services covering a mixture of hymns played by organ or keyboard\, mostly led by our minister but with support from lay members of the congregation. First Sunday of the month is a Holy Communion service.
URL:https://drysdale.unitingchurch.org.au/event/worship-service-166/
LOCATION:Drysdale Uniting Church\, 22-24 High Street Drysdale\, Drysdale\, Victoria\, 3222\, Australia
CATEGORIES:Service
END:VEVENT
END:VCALENDAR