BEGIN:VCALENDAR
VERSION:2.0
PRODID:-//Drysdale Uniting Church - ECPv6.15.20//NONSGML v1.0//EN
CALSCALE:GREGORIAN
METHOD:PUBLISH
X-WR-CALNAME:Drysdale Uniting Church
X-ORIGINAL-URL:https://drysdale.unitingchurch.org.au
X-WR-CALDESC:Events for Drysdale Uniting Church
REFRESH-INTERVAL;VALUE=DURATION:PT1H
X-Robots-Tag:noindex
X-PUBLISHED-TTL:PT1H
BEGIN:VTIMEZONE
TZID:Australia/Melbourne
BEGIN:STANDARD
TZOFFSETFROM:+1100
TZOFFSETTO:+1000
TZNAME:AEST
DTSTART:20240406T160000
END:STANDARD
BEGIN:DAYLIGHT
TZOFFSETFROM:+1000
TZOFFSETTO:+1100
TZNAME:AEDT
DTSTART:20241005T160000
END:DAYLIGHT
BEGIN:STANDARD
TZOFFSETFROM:+1100
TZOFFSETTO:+1000
TZNAME:AEST
DTSTART:20250405T160000
END:STANDARD
BEGIN:DAYLIGHT
TZOFFSETFROM:+1000
TZOFFSETTO:+1100
TZNAME:AEDT
DTSTART:20251004T160000
END:DAYLIGHT
BEGIN:STANDARD
TZOFFSETFROM:+1100
TZOFFSETTO:+1000
TZNAME:AEST
DTSTART:20260404T160000
END:STANDARD
BEGIN:DAYLIGHT
TZOFFSETFROM:+1000
TZOFFSETTO:+1100
TZNAME:AEDT
DTSTART:20261003T160000
END:DAYLIGHT
BEGIN:STANDARD
TZOFFSETFROM:+1100
TZOFFSETTO:+1000
TZNAME:AEST
DTSTART:20270403T160000
END:STANDARD
BEGIN:DAYLIGHT
TZOFFSETFROM:+1000
TZOFFSETTO:+1100
TZNAME:AEDT
DTSTART:20271002T160000
END:DAYLIGHT
END:VTIMEZONE
BEGIN:VEVENT
DTSTART;TZID=Australia/Melbourne:20260125T103000
DTEND;TZID=Australia/Melbourne:20260125T113000
DTSTAMP:20260425T125726
CREATED:20260216T012040Z
LAST-MODIFIED:20260216T012040Z
UID:8083-1769337000-1769340600@drysdale.unitingchurch.org.au
SUMMARY:Worship Service
DESCRIPTION:Worship services covering a mixture of hymns played by organ or keyboard\, mostly led by our minister but with support from lay members of the congregation. First Sunday of the month is a Holy Communion service.
URL:https://drysdale.unitingchurch.org.au/event/worship-service-164/
LOCATION:Drysdale Uniting Church\, 22-24 High Street Drysdale\, Drysdale\, Victoria\, 3222\, Australia
END:VEVENT
BEGIN:VEVENT
DTSTART;TZID=Australia/Melbourne:20260118T103000
DTEND;TZID=Australia/Melbourne:20260118T113000
DTSTAMP:20260425T125726
CREATED:20260216T012143Z
LAST-MODIFIED:20260216T012143Z
UID:8085-1768732200-1768735800@drysdale.unitingchurch.org.au
SUMMARY:Worship Service
DESCRIPTION:Worship services covering a mixture of hymns played by organ or keyboard\, mostly led by our minister but with support from lay members of the congregation. First Sunday of the month is a Holy Communion service.
URL:https://drysdale.unitingchurch.org.au/event/worship-service-165/
LOCATION:Drysdale Uniting Church\, 22-24 High Street Drysdale\, Drysdale\, Victoria\, 3222\, Australia
CATEGORIES:Service
END:VEVENT
BEGIN:VEVENT
DTSTART;TZID=Australia/Melbourne:20260111T103000
DTEND;TZID=Australia/Melbourne:20260111T113000
DTSTAMP:20260425T125726
CREATED:20260216T012244Z
LAST-MODIFIED:20260216T012244Z
UID:8087-1768127400-1768131000@drysdale.unitingchurch.org.au
SUMMARY:Worship Service
DESCRIPTION:Worship services covering a mixture of hymns played by organ or keyboard\, mostly led by our minister but with support from lay members of the congregation. First Sunday of the month is a Holy Communion service.
URL:https://drysdale.unitingchurch.org.au/event/worship-service-166/
LOCATION:Drysdale Uniting Church\, 22-24 High Street Drysdale\, Drysdale\, Victoria\, 3222\, Australia
CATEGORIES:Service
END:VEVENT
BEGIN:VEVENT
DTSTART;TZID=Australia/Melbourne:20260104T080000
DTEND;TZID=Australia/Melbourne:20260104T170000
DTSTAMP:20260425T125726
CREATED:20260216T012330Z
LAST-MODIFIED:20260216T012330Z
UID:8089-1767513600-1767546000@drysdale.unitingchurch.org.au
SUMMARY:Worship Service
DESCRIPTION:Worship services covering a mixture of hymns played by organ or keyboard\, mostly led by our minister but with support from lay members of the congregation. First Sunday of the month is a Holy Communion service.
URL:https://drysdale.unitingchurch.org.au/event/worship-service-167/
LOCATION:Drysdale Uniting Church\, 22-24 High Street Drysdale\, Drysdale\, Victoria\, 3222\, Australia
CATEGORIES:Service
END:VEVENT
BEGIN:VEVENT
DTSTART;TZID=Australia/Melbourne:20251205T103000
DTEND;TZID=Australia/Melbourne:20251205T120000
DTSTAMP:20260425T125726
CREATED:20250221T071300Z
LAST-MODIFIED:20250221T071300Z
UID:8016-1764930600-1764936000@drysdale.unitingchurch.org.au
SUMMARY:Morning Tea with the Minister
DESCRIPTION:An opportunity to share morning tea with the minister and others. Is open to all the community. Come when you are ready and for as long as you like. Morning tea provided. No cost.
URL:https://drysdale.unitingchurch.org.au/event/morning-tea-with-the-minister-17/
LOCATION:Drysdale Uniting Church\, 22-24 High Street Drysdale\, Drysdale\, Victoria\, 3222\, Australia
CATEGORIES:Special Event
END:VEVENT
BEGIN:VEVENT
DTSTART;TZID=Australia/Melbourne:20251120T190000
DTEND;TZID=Australia/Melbourne:20251120T210000
DTSTAMP:20260425T125726
CREATED:20250221T051300Z
LAST-MODIFIED:20250221T051300Z
UID:7959-1763665200-1763672400@drysdale.unitingchurch.org.au
SUMMARY:Church Council
DESCRIPTION:Meeting of Church Council (Elders and elected councillors) for the spiritual care and administration of the congregation.
URL:https://drysdale.unitingchurch.org.au/event/church-council-14/
LOCATION:Drysdale Uniting Church\, 22-24 High Street Drysdale\, Drysdale\, Victoria\, 3222\, Australia
CATEGORIES:Meetings
END:VEVENT
BEGIN:VEVENT
DTSTART;TZID=Australia/Melbourne:20251118T140000
DTEND;TZID=Australia/Melbourne:20251118T150000
DTSTAMP:20260425T125726
CREATED:20250221T053111Z
LAST-MODIFIED:20250221T053111Z
UID:7975-1763474400-1763478000@drysdale.unitingchurch.org.au
SUMMARY:Joint Coordinating Committee
DESCRIPTION:Meeting of representatives of both Drysdale and Portarlington congregations. Looks at the operation of both congregations with concern for Minister\, Manse and Office.
URL:https://drysdale.unitingchurch.org.au/event/joint-coordinating-committee-12/
LOCATION:Drysdale Uniting Church\, 22-24 High Street Drysdale\, Drysdale\, Victoria\, 3222\, Australia
CATEGORIES:Meetings
END:VEVENT
BEGIN:VEVENT
DTSTART;TZID=Australia/Melbourne:20251111T140000
DTEND;TZID=Australia/Melbourne:20251111T150000
DTSTAMP:20260425T125726
CREATED:20250221T052303Z
LAST-MODIFIED:20250221T052303Z
UID:7967-1762869600-1762873200@drysdale.unitingchurch.org.au
SUMMARY:Worship Committee
DESCRIPTION:Meeting of Worship Team representatives of the Linked Congregations to plan the quarterly preaching plan and to review worship activities of each congregation.
URL:https://drysdale.unitingchurch.org.au/event/worship-committee-12/
LOCATION:Drysdale Uniting Church\, 22-24 High Street Drysdale\, Drysdale\, Victoria\, 3222\, Australia
CATEGORIES:Meetings
END:VEVENT
BEGIN:VEVENT
DTSTART;TZID=Australia/Melbourne:20251107T103000
DTEND;TZID=Australia/Melbourne:20251107T120000
DTSTAMP:20260425T125726
CREATED:20250221T071142Z
LAST-MODIFIED:20250221T071142Z
UID:8014-1762511400-1762516800@drysdale.unitingchurch.org.au
SUMMARY:Morning Tea with the Minister
DESCRIPTION:An opportunity to share morning tea with the minister and others. Is open to all the community. Come when you are ready and for as long as you like. Morning tea provided. No cost.
URL:https://drysdale.unitingchurch.org.au/event/morning-tea-with-the-minister-16/
LOCATION:Drysdale Uniting Church\, 22-24 High Street Drysdale\, Drysdale\, Victoria\, 3222\, Australia
CATEGORIES:Special Event
END:VEVENT
BEGIN:VEVENT
DTSTART;TZID=Australia/Melbourne:20251003T103000
DTEND;TZID=Australia/Melbourne:20251003T120000
DTSTAMP:20260425T125726
CREATED:20250221T070920Z
LAST-MODIFIED:20250221T070920Z
UID:8010-1759487400-1759492800@drysdale.unitingchurch.org.au
SUMMARY:Morning Tea with the Minister
DESCRIPTION:An opportunity to share morning tea with the minister and others. Is open to all the community. Come when you are ready and for as long as you like. Morning tea provided. No cost.
URL:https://drysdale.unitingchurch.org.au/event/morning-tea-with-the-minister-14/
LOCATION:Drysdale Uniting Church\, 22-24 High Street Drysdale\, Drysdale\, Victoria\, 3222\, Australia
CATEGORIES:Special Event
END:VEVENT
BEGIN:VEVENT
DTSTART;TZID=Australia/Melbourne:20250905T103000
DTEND;TZID=Australia/Melbourne:20250905T120000
DTSTAMP:20260425T125726
CREATED:20250221T071031Z
LAST-MODIFIED:20250221T071031Z
UID:8012-1757068200-1757073600@drysdale.unitingchurch.org.au
SUMMARY:Morning Tea with the Minister
DESCRIPTION:An opportunity to share morning tea with the minister and others. Is open to all the community. Come when you are ready and for as long as you like. Morning tea provided. No cost.
URL:https://drysdale.unitingchurch.org.au/event/morning-tea-with-the-minister-15/
LOCATION:Drysdale Uniting Church\, 22-24 High Street Drysdale\, Drysdale\, Victoria\, 3222\, Australia
CATEGORIES:Special Event
END:VEVENT
BEGIN:VEVENT
DTSTART;TZID=Australia/Melbourne:20250821T190000
DTEND;TZID=Australia/Melbourne:20250821T210000
DTSTAMP:20260425T125726
CREATED:20250221T051146Z
LAST-MODIFIED:20250221T051146Z
UID:7957-1755802800-1755810000@drysdale.unitingchurch.org.au
SUMMARY:Church Council
DESCRIPTION:Meeting of Church Council (Elders and elected councillors) for the spiritual care and administration of the congregation.
URL:https://drysdale.unitingchurch.org.au/event/church-council-13/
LOCATION:Drysdale Uniting Church\, 22-24 High Street Drysdale\, Drysdale\, Victoria\, 3222\, Australia
CATEGORIES:Meetings
END:VEVENT
BEGIN:VEVENT
DTSTART;TZID=Australia/Melbourne:20250819T140000
DTEND;TZID=Australia/Melbourne:20250819T150000
DTSTAMP:20260425T125726
CREATED:20250221T053006Z
LAST-MODIFIED:20250221T053006Z
UID:7973-1755612000-1755615600@drysdale.unitingchurch.org.au
SUMMARY:Joint Coordinating Committee
DESCRIPTION:Meeting of representatives of both Drysdale and Portarlington congregations. Looks at the operation of both congregations with concern for Minister\, Manse and Office.
URL:https://drysdale.unitingchurch.org.au/event/joint-coordinating-committee-11/
LOCATION:Drysdale Uniting Church\, 22-24 High Street Drysdale\, Drysdale\, Victoria\, 3222\, Australia
CATEGORIES:Meetings
END:VEVENT
BEGIN:VEVENT
DTSTART;TZID=Australia/Melbourne:20250801T103000
DTEND;TZID=Australia/Melbourne:20250801T120000
DTSTAMP:20260425T125726
CREATED:20250221T070809Z
LAST-MODIFIED:20250221T070809Z
UID:8008-1754044200-1754049600@drysdale.unitingchurch.org.au
SUMMARY:Morning Tea with the Minister
DESCRIPTION:An opportunity to share morning tea with the minister and others. Is open to all the community. Come when you are ready and for as long as you like. Morning tea provided. No cost.
URL:https://drysdale.unitingchurch.org.au/event/morning-tea-with-the-minister-13/
LOCATION:Drysdale Uniting Church\, 22-24 High Street Drysdale\, Drysdale\, Victoria\, 3222\, Australia
CATEGORIES:Special Event
END:VEVENT
BEGIN:VEVENT
DTSTART;TZID=Australia/Melbourne:20250704T103000
DTEND;TZID=Australia/Melbourne:20250704T120000
DTSTAMP:20260425T125726
CREATED:20250221T070700Z
LAST-MODIFIED:20250221T070700Z
UID:8006-1751625000-1751630400@drysdale.unitingchurch.org.au
SUMMARY:Morning Tea with the Minister
DESCRIPTION:
URL:https://drysdale.unitingchurch.org.au/event/morning-tea-with-the-minister-12/
LOCATION:Drysdale Uniting Church\, 22-24 High Street Drysdale\, Drysdale\, Victoria\, 3222\, Australia
CATEGORIES:Special Event
END:VEVENT
BEGIN:VEVENT
DTSTART;TZID=Australia/Melbourne:20250606T103000
DTEND;TZID=Australia/Melbourne:20250606T120000
DTSTAMP:20260425T125726
CREATED:20250221T070545Z
LAST-MODIFIED:20250221T070545Z
UID:8004-1749205800-1749211200@drysdale.unitingchurch.org.au
SUMMARY:Morning Tea with the Minister
DESCRIPTION:An opportunity to share morning tea with the minister and others. Is open to all the community. Come when you are ready and for as long as you like. Morning tea provided. No cost.
URL:https://drysdale.unitingchurch.org.au/event/morning-tea-with-the-minister-11/
LOCATION:Drysdale Uniting Church\, 22-24 High Street Drysdale\, Drysdale\, Victoria\, 3222\, Australia
CATEGORIES:Special Event
END:VEVENT
BEGIN:VEVENT
DTSTART;TZID=Australia/Melbourne:20250520T140000
DTEND;TZID=Australia/Melbourne:20250520T150000
DTSTAMP:20260425T125726
CREATED:20250221T052903Z
LAST-MODIFIED:20250221T052903Z
UID:7971-1747749600-1747753200@drysdale.unitingchurch.org.au
SUMMARY:Joint Coordinating Committee
DESCRIPTION:Meeting of representatives of both Drysdale and Portarlington congregations. Looks at the operation of both congregations with concern for Minister\, Manse and Office.
URL:https://drysdale.unitingchurch.org.au/event/joint-coordinating-committee-10/
LOCATION:Drysdale Uniting Church\, 22-24 High Street Drysdale\, Drysdale\, Victoria\, 3222\, Australia
CATEGORIES:Meetings
END:VEVENT
BEGIN:VEVENT
DTSTART;TZID=Australia/Melbourne:20250515T190000
DTEND;TZID=Australia/Melbourne:20250515T210000
DTSTAMP:20260425T125726
CREATED:20250221T050943Z
LAST-MODIFIED:20250221T050943Z
UID:7955-1747335600-1747342800@drysdale.unitingchurch.org.au
SUMMARY:Church Council
DESCRIPTION:Meeting of Church Council (Elders and elected councillors) for the spiritual care and administration of the congregation.
URL:https://drysdale.unitingchurch.org.au/event/church-council-12/
LOCATION:Drysdale Uniting Church\, 22-24 High Street Drysdale\, Drysdale\, Victoria\, 3222\, Australia
CATEGORIES:Meetings
END:VEVENT
BEGIN:VEVENT
DTSTART;TZID=Australia/Melbourne:20250513T140000
DTEND;TZID=Australia/Melbourne:20250513T150000
DTSTAMP:20260425T125726
CREATED:20250221T052110Z
LAST-MODIFIED:20250221T052110Z
UID:7963-1747144800-1747148400@drysdale.unitingchurch.org.au
SUMMARY:Church Council
DESCRIPTION:Meeting of Worship Team representatives of the Linked Congregations to plan the quarterly preaching plan and to review worship activities of each congregation.
URL:https://drysdale.unitingchurch.org.au/event/church-council-15/
LOCATION:Drysdale Uniting Church\, 22-24 High Street Drysdale\, Drysdale\, Victoria\, 3222\, Australia
CATEGORIES:Meetings
END:VEVENT
BEGIN:VEVENT
DTSTART;TZID=Australia/Melbourne:20250502T103000
DTEND;TZID=Australia/Melbourne:20250502T120000
DTSTAMP:20260425T125726
CREATED:20250221T070435Z
LAST-MODIFIED:20250221T070435Z
UID:8002-1746181800-1746187200@drysdale.unitingchurch.org.au
SUMMARY:Morning Tea with the Minister
DESCRIPTION:An opportunity to share morning tea with the minister and others. Is open to all the community. Come when you are ready and for as long as you like. Morning tea provided. No cost.
URL:https://drysdale.unitingchurch.org.au/event/morning-tea-with-the-minister-10/
LOCATION:Drysdale Uniting Church\, 22-24 High Street Drysdale\, Drysdale\, Victoria\, 3222\, Australia
CATEGORIES:Special Event
END:VEVENT
BEGIN:VEVENT
DTSTART;TZID=Australia/Melbourne:20250427T103000
DTEND;TZID=Australia/Melbourne:20250427T113000
DTSTAMP:20260425T125726
CREATED:20250221T045928Z
LAST-MODIFIED:20250221T045928Z
UID:7948-1745749800-1745753400@drysdale.unitingchurch.org.au
SUMMARY:Worship service
DESCRIPTION:Worship services covering a mixture of hymns played by organ\, mostly led by our minister but with support from lay members of the congregation. First Sunday of the month is a Holy Communion service.
URL:https://drysdale.unitingchurch.org.au/event/worship-service-154/
LOCATION:Drysdale Uniting Church\, 22-24 High Street Drysdale\, Drysdale\, Victoria\, 3222\, Australia
CATEGORIES:Service
END:VEVENT
BEGIN:VEVENT
DTSTART;TZID=Australia/Melbourne:20250420T103000
DTEND;TZID=Australia/Melbourne:20250420T113000
DTSTAMP:20260425T125726
CREATED:20250221T045822Z
LAST-MODIFIED:20250221T045822Z
UID:7946-1745145000-1745148600@drysdale.unitingchurch.org.au
SUMMARY:Worship service
DESCRIPTION:Worship services covering a mixture of hymns played by organ\, mostly led by our minister but with support from lay members of the congregation. First Sunday of the month is a Holy Communion service.
URL:https://drysdale.unitingchurch.org.au/event/worship-service-153/
LOCATION:Drysdale Uniting Church\, 22-24 High Street Drysdale\, Drysdale\, Victoria\, 3222\, Australia
CATEGORIES:Service
END:VEVENT
BEGIN:VEVENT
DTSTART;TZID=Australia/Melbourne:20250419T090000
DTEND;TZID=Australia/Melbourne:20250419T123000
DTSTAMP:20260425T125726
CREATED:20250221T073444Z
LAST-MODIFIED:20250221T073444Z
UID:8037-1745053200-1745065800@drysdale.unitingchurch.org.au
SUMMARY:Easter fete
DESCRIPTION:Stalls for crafts\, cakes& slices\, preserves\, plants and books. Set up on the church forecourt. As a fundraiser for church projects.
URL:https://drysdale.unitingchurch.org.au/event/easter-fete-2/
LOCATION:Drysdale Uniting Church\, 22-24 High Street Drysdale\, Drysdale\, Victoria\, 3222\, Australia
CATEGORIES:Special Event
END:VEVENT
BEGIN:VEVENT
DTSTART;TZID=Australia/Melbourne:20250418T104500
DTEND;TZID=Australia/Melbourne:20250418T120000
DTSTAMP:20260425T125726
CREATED:20250221T073235Z
LAST-MODIFIED:20250221T073235Z
UID:8035-1744973100-1744977600@drysdale.unitingchurch.org.au
SUMMARY:Walk of Witness
DESCRIPTION:Organised by the Combined Churches of Drysdale\, Clifton Springs and Curlewis. A short walk from Christian College to the Uniting Church with stops along the way for a liturgy organised by the Baptist Church. Hot cross buns and refreshments in the Uniting Church hall.
URL:https://drysdale.unitingchurch.org.au/event/walk-of-witness-2/
LOCATION:Victoria
CATEGORIES:Special Event
ORGANIZER;CN="Wayne Myers":MAILTO:waynemyers@outlook.com
END:VEVENT
BEGIN:VEVENT
DTSTART;TZID=Australia/Melbourne:20250418T100000
DTEND;TZID=Australia/Melbourne:20250418T103000
DTSTAMP:20260425T125726
CREATED:20250221T072901Z
LAST-MODIFIED:20250221T072901Z
UID:8033-1744970400-1744972200@drysdale.unitingchurch.org.au
SUMMARY:Good Friday Service
DESCRIPTION:Short service of worship for Good Friday
URL:https://drysdale.unitingchurch.org.au/event/good-friday-service-3/
LOCATION:Drysdale Uniting Church\, 22-24 High Street Drysdale\, Drysdale\, Victoria\, 3222\, Australia
CATEGORIES:Service
END:VEVENT
BEGIN:VEVENT
DTSTART;TZID=Australia/Melbourne:20250417T190000
DTEND;TZID=Australia/Melbourne:20250417T200000
DTSTAMP:20260425T125726
CREATED:20250221T072703Z
LAST-MODIFIED:20250221T072703Z
UID:8031-1744916400-1744920000@drysdale.unitingchurch.org.au
SUMMARY:Maundy Thursday Service
DESCRIPTION:A special service of shadows for Maundy Thursday on behalf of the Linked Congregations
URL:https://drysdale.unitingchurch.org.au/event/maundy-thursday-service-4/
LOCATION:Drysdale Uniting Church\, 22-24 High Street Drysdale\, Drysdale\, Victoria\, 3222\, Australia
CATEGORIES:Service
END:VEVENT
BEGIN:VEVENT
DTSTART;TZID=Australia/Melbourne:20250413T103000
DTEND;TZID=Australia/Melbourne:20250413T113000
DTSTAMP:20260425T125726
CREATED:20250221T045616Z
LAST-MODIFIED:20250221T045616Z
UID:7944-1744540200-1744543800@drysdale.unitingchurch.org.au
SUMMARY:Worship service
DESCRIPTION:Worship services covering a mixture of hymns played by organ\, mostly led by our minister but with support from lay members of the congregation. First Sunday of the month is a Holy Communion service.
URL:https://drysdale.unitingchurch.org.au/event/worship-service-152/
LOCATION:Drysdale Uniting Church\, 22-24 High Street Drysdale\, Drysdale\, Victoria\, 3222\, Australia
CATEGORIES:Service
END:VEVENT
BEGIN:VEVENT
DTSTART;TZID=Australia/Melbourne:20250413T103000
DTEND;TZID=Australia/Melbourne:20250413T113000
DTSTAMP:20260425T125726
CREATED:20250221T045510Z
LAST-MODIFIED:20250221T045510Z
UID:7942-1744540200-1744543800@drysdale.unitingchurch.org.au
SUMMARY:Worship service
DESCRIPTION:Worship services covering a mixture of hymns played by organ\, mostly led by our minister but with support from lay members of the congregation. First Sunday of the month is a Holy Communion service.
URL:https://drysdale.unitingchurch.org.au/event/worship-service-151/
LOCATION:Drysdale Uniting Church\, 22-24 High Street Drysdale\, Drysdale\, Victoria\, 3222\, Australia
CATEGORIES:Service
END:VEVENT
BEGIN:VEVENT
DTSTART;TZID=Australia/Melbourne:20250406T103000
DTEND;TZID=Australia/Melbourne:20250406T113000
DTSTAMP:20260425T125726
CREATED:20250221T045401Z
LAST-MODIFIED:20250221T045401Z
UID:7940-1743935400-1743939000@drysdale.unitingchurch.org.au
SUMMARY:Worship service
DESCRIPTION:Worship services covering a mixture of hymns played by organ\, mostly led by our minister but with support from lay members of the congregation. First Sunday of the month is a Holy Communion service.
URL:https://drysdale.unitingchurch.org.au/event/worship-service-150/
LOCATION:Drysdale Uniting Church\, 22-24 High Street Drysdale\, Drysdale\, Victoria\, 3222\, Australia
CATEGORIES:Service
END:VEVENT
BEGIN:VEVENT
DTSTART;TZID=Australia/Melbourne:20250404T103000
DTEND;TZID=Australia/Melbourne:20250404T120000
DTSTAMP:20260425T125726
CREATED:20250221T070328Z
LAST-MODIFIED:20250221T070328Z
UID:8000-1743762600-1743768000@drysdale.unitingchurch.org.au
SUMMARY:Morning Tea with the Minister
DESCRIPTION:An opportunity to share morning tea with the minister and others. Is open to all the community. Come when you are ready and for as long as you like. Morning tea provided. No cost.
URL:https://drysdale.unitingchurch.org.au/event/morning-tea-with-the-minister-9/
LOCATION:Drysdale Uniting Church\, 22-24 High Street Drysdale\, Drysdale\, Victoria\, 3222\, Australia
CATEGORIES:Special Event
END:VEVENT
END:VCALENDAR